BEGIN:VCALENDAR
VERSION:2.0
PRODID:-//OES - Outdoor Education Services, LLC - ECPv6.15.20//NONSGML v1.0//EN
CALSCALE:GREGORIAN
METHOD:PUBLISH
X-WR-CALNAME:OES - Outdoor Education Services, LLC
X-ORIGINAL-URL:https://outdooreducationservices.com
X-WR-CALDESC:Events for OES - Outdoor Education Services, LLC
REFRESH-INTERVAL;VALUE=DURATION:PT1H
X-Robots-Tag:noindex
X-PUBLISHED-TTL:PT1H
BEGIN:VTIMEZONE
TZID:America/Chicago
BEGIN:DAYLIGHT
TZOFFSETFROM:-0600
TZOFFSETTO:-0500
TZNAME:CDT
DTSTART:20240310T080000
END:DAYLIGHT
BEGIN:STANDARD
TZOFFSETFROM:-0500
TZOFFSETTO:-0600
TZNAME:CST
DTSTART:20241103T070000
END:STANDARD
BEGIN:DAYLIGHT
TZOFFSETFROM:-0600
TZOFFSETTO:-0500
TZNAME:CDT
DTSTART:20250309T080000
END:DAYLIGHT
BEGIN:STANDARD
TZOFFSETFROM:-0500
TZOFFSETTO:-0600
TZNAME:CST
DTSTART:20251102T070000
END:STANDARD
BEGIN:DAYLIGHT
TZOFFSETFROM:-0600
TZOFFSETTO:-0500
TZNAME:CDT
DTSTART:20260308T080000
END:DAYLIGHT
BEGIN:STANDARD
TZOFFSETFROM:-0500
TZOFFSETTO:-0600
TZNAME:CST
DTSTART:20261101T070000
END:STANDARD
END:VTIMEZONE
BEGIN:VEVENT
DTSTART;TZID=America/Chicago:20250517T080000
DTEND;TZID=America/Chicago:20250518T170000
DTSTAMP:20260422T174654
CREATED:20250305T014403Z
LAST-MODIFIED:20250305T022602Z
UID:494-1747468800-1747587600@outdooreducationservices.com
SUMMARY:Wilderness First Aid Class
DESCRIPTION:$300.00\nBe Prepared: Wilderness First Aid Certification with Outdoor Education Services (OES)\nVenture into the wilderness with confidence\, knowing you possess the skills to handle emergencies. Outdoor Education Services (OES) proudly presents a nationally recognized 16-hour Wilderness First Aid (WFA) certification course\, designed to equip you with essential life-saving techniques for remote environments. \nThis immersive weekend experience blends comprehensive classroom instruction with realistic\, hands-on scenarios. We believe that practical application is crucial for mastering wilderness medicine. Therefore\, you’ll actively participate in simulated emergencies\, applying your newfound knowledge to real-world situations. \nBeyond Basic First Aid:\nThis course goes beyond standard first aid\, focusing on the unique challenges of providing care in the backcountry. You’ll learn how to assess and manage injuries and illnesses when immediate medical assistance is not an option. We’ll cover essential topics\, including patient assessment\, wound management\, fracture stabilization\, and environmental emergencies like hypothermia and heatstroke. \nEssential Aid Skills for Outdoor Enthusiasts:\nWhether you’re an avid hiker\, camper\, paddler\, or a seasoned outdoor professional\, this WFA certification is invaluable. This course is designed for anyone who spends time in remote settings\, where access to professional medical care is limited. Gain the skills and confidence to provide Basic Life Support (BLS) and effectively manage medical emergencies until help arrives. \nA Fully Supported First Aid Learning Experience:\nWe provide a supportive and engaging learning environment. Our experienced instructors will guide you through each module\, ensuring you understand the concepts and techniques. We’ll provide all necessary materials and equipment\, allowing you to focus on learning and practicing your skills. \nWhat to Expect: \n\nComprehensive classroom instruction covering wilderness medicine principles.\nRealistic\, hands-on scenarios simulating backcountry emergencies.\nInstruction on patient assessment\, wound management\, and fracture stabilization.\nGuidance on managing environmental emergencies.\nNationally recognized WFA certification upon successful completion.\nA fully supported learning experience with experienced instructors.\n\nPrepare yourself for the unexpected and gain the confidence to handle emergencies in the wilderness with OES. \n  \nSign Up here
URL:https://outdooreducationservices.com/event/immersive-wilderness-first-aid-class/
LOCATION:Millers Mountain
ATTACH;FMTTYPE=image/jpeg:https://outdooreducationservices.com/wp-content/uploads/2025/03/wildernessfirstaid.jpg
END:VEVENT
BEGIN:VEVENT
DTSTART;TZID=America/Chicago:20250412T070000
DTEND;TZID=America/Chicago:20250413T170000
DTSTAMP:20260422T174654
CREATED:20250225T074235Z
LAST-MODIFIED:20250305T024142Z
UID:463-1744441200-1744563600@outdooreducationservices.com
SUMMARY:Mulberry Float and Red Lick MTB
DESCRIPTION:$300\n\nMulberry Float and Red Lick MTB Adventure with OES\nExperience the Ultimate Outdoor Adventure in Arkansas\nJoin Outdoor Education Services (OES) for an action-packed\, two-day Mulberry Float and Red Lick MTB adventure. This excursion combines the thrill of whitewater paddling on the Mulberry River with the exhilarating challenge of the Red Lick Mountain Bike Trails. This expertly guided trip is designed for outdoor enthusiasts seeking a dynamic blend of adventure and natural beauty. \nWhitewater Paddling on the Scenic Mulberry River Float\nDay one kicks off with a paddling excursion on the picturesque Mulberry River. Known for its clear waters and exciting rapids\, the Mulberry provides an ideal setting for both novice and experienced paddlers. Our certified guides will provide comprehensive instruction\, ensuring your safety and enjoyment as you navigate the river’s twists and turns. Experience the rush of paddling through scenic Ozark landscapes\, while honing your whitewater skills. \nMountain Biking the Challenging Red Lick MTB Trails\nDay two shifts gears to the renowned Red Lick Mountain Bike Trails. Prepare for an adrenaline-fueled ride through diverse terrain\, featuring challenging climbs\, thrilling descents\, and scenic singletrack. Our guides will lead you through the trails\, offering expert tips and strategies for navigating the varied terrain. Whether you’re a seasoned rider or a confident beginner\, you’ll find trails suited to your skill level. \nFully Supported Float and MTB Adventure with Expert OES Guides\nThis two-day adventure is fully supported by our experienced OES guides. We handle all the logistics\, allowing you to focus on the thrill of the experience. From paddling equipment and mountain bikes to meals and camping arrangements\, we’ve got you covered. Our guides are passionate about sharing their knowledge and ensuring your safety and enjoyment throughout the trip. \nImmerse Yourself in the Natural Beauty of the Ozarks\nThis trip offers a unique opportunity to immerse yourself in the stunning natural beauty of the Ozark Mountains. From the tranquil waters of the Mulberry River to the rugged terrain of the Red Lick Trails\, you’ll experience the diverse landscapes that make this region a haven for outdoor enthusiasts. \nAdventure Itinerary Highlights: \n\nMulberry River Paddling: Enjoy a guided whitewater paddling experience on the scenic Mulberry River.\nRed Lick MTB: Conquer the challenging trails of Red Lick Mountain Bike Trails.\nExpert Guidance: Receive personalized instruction and support from certified OES guides.\nAll-Inclusive Experience: Enjoy fully supported meals\, camping\, and equipment.\nOzark Mountain Scenery: Immerse yourself in the breathtaking natural beauty of the Ozarks.\n\nJoin OES for an unforgettable two-day adventure that combines the best of whitewater paddling and mountain biking in the heart of the Ozarks. \n\nSchedule Here
URL:https://outdooreducationservices.com/event/mulberry-float-red-lick-mtb/
LOCATION:Bentonville AR
ATTACH;FMTTYPE=image/jpeg:https://outdooreducationservices.com/wp-content/uploads/2025/02/river-float-e1740447750505.jpg
END:VEVENT
BEGIN:VEVENT
DTSTART;TZID=America/Chicago:20250322T090000
DTEND;TZID=America/Chicago:20250323T160000
DTSTAMP:20260422T174654
CREATED:20250225T070943Z
LAST-MODIFIED:20250305T023421Z
UID:451-1742634000-1742745600@outdooreducationservices.com
SUMMARY:Land Navigation Course - Basic
DESCRIPTION:$300\n\nMaster the Art of Finding Your Way: Basic Land Navigation Course with OES\nLearn Essential Land Navigation Skills\nEmbark on a transformative journey into the world of wilderness navigation with Outdoor Education Services (OES). Our 16-hour\, hands-on Basic Land Navigation course is meticulously designed to equip you with the fundamental skills needed to confidently navigate overland using only a map\, compass\, and the natural terrain. \nComprehensive Land Navigation Training\nThis fully supported weekend course provides a balanced blend of classroom instruction and immersive\, real-world navigation exercises. We’ll begin by demystifying map reading\, compass usage\, and terrain interpretation. You’ll learn how to accurately determine your location\, plot courses\, and follow bearings\, ensuring you can navigate with precision and efficiency. \nHands-On Land Navigation Exercises\nWe believe that practical experience is paramount. That’s why our course emphasizes hands-on exercises in diverse outdoor settings. You’ll put your newfound skills to the test\, navigating through varying terrain and conditions. Our experienced instructors will provide personalized guidance and feedback\, ensuring you develop a solid understanding of land navigation principles. \nNavigate with Confidence in the Outdoors\nWhether you’re a hiker\, backpacker\, hunter\, or outdoor enthusiast\, this course is essential for anyone who ventures into remote areas. You’ll gain the confidence to explore the wilderness safely and independently\, knowing you have the skills to find your way back. \nEssential Techniques Covered\n\nMap Reading and Interpretation: Learn to decipher topographic maps and understand contour lines.\nCompass Usage: Master the art of taking and following bearings.\nTerrain Association: Utilize natural features to guide your navigation.\nDistance Estimation: Accurately gauge distances in the field.\nRoute Planning: Develop effective navigation strategies.\n\nFully Supported Land Navigation Weekend \nWe provide all necessary materials and equipment\, ensuring a seamless learning experience. Our experienced instructors are passionate about sharing their knowledge and fostering a supportive learning environment. Join us and discover the satisfaction of navigating with confidence. \n\n  \nSchedule Here
URL:https://outdooreducationservices.com/event/basic-land-navigation/
LOCATION:Bentonville AR
ATTACH;FMTTYPE=image/jpeg:https://outdooreducationservices.com/wp-content/uploads/2025/02/landnavigationevent-e1740447821570.jpg
END:VEVENT
BEGIN:VEVENT
DTSTART;TZID=America/Chicago:20250322T060000
DTEND;TZID=America/Chicago:20250322T150000
DTSTAMP:20260422T174654
CREATED:20250225T071406Z
LAST-MODIFIED:20250305T023121Z
UID:453-1742623200-1742655600@outdooreducationservices.com
SUMMARY:Bald Eagle Watch & Photos
DESCRIPTION:$75\n\nBald Eagle Watch & Photo Event with OES in Northwest Arkansas\nExperience the Thrill of Bald Eagle Watching\nEmbark on an unforgettable journey into the heart of the Ozark’s winter landscape with Outdoor Education Services (OES) for our exclusive Bald Eagle Watch & Photo event. This unique experience offers a rare opportunity to observe and photograph these magnificent birds of prey in their natural habitat\, a spectacle that truly embodies the spirit of the wilderness. \nPrime Bald Eagle Viewing Locations in the Ozarks\nAs winter blankets the region\, bald eagles congregate along our waterways\, drawn by the abundance of fish and open water. Our expert guides\, intimately familiar with the local environment and eagle behavior\, will lead you to carefully selected prime viewing locations. These spots have been chosen for their optimal vantage points\, ensuring you have the best possible chance to witness eagles soaring\, hunting\, and interacting in their natural environment. \nLearn About Bald Eagle Behavior and Conservation\nThis event is more than just a sightseeing tour; it’s an immersive educational experience. Our guides will share fascinating insights into the lives of bald eagles\, from their hunting strategies and nesting habits to the remarkable conservation efforts that have led to their resurgence. You’ll learn about the challenges these birds face and the crucial role they play in our ecosystem. \nCapture Stunning Bald Eagle Photos\nFor photography enthusiasts\, this event offers an unparalleled opportunity to capture stunning images of these majestic birds. Our guides will provide tips and techniques for photographing wildlife\, helping you to capture those perfect moments of eagles in flight\, perched in trees\, or diving for fish. Whether you’re a seasoned photographer or a beginner\, you’ll have the chance to hone your skills and create lasting memories. \nEthical Wildlife Viewing Practices\nWe understand that observing wildlife requires patience and respect. Our guides will ensure that our presence does not disturb the eagles\, allowing you to witness their natural behaviors without causing stress or disruption. We’ll maintain a safe distance and adhere to ethical wildlife viewing practices\, prioritizing the well-being of these magnificent birds. \nJoin OES for a Memorable Bald Eagle Experience\nJoin us for a day of wonder and discovery\, as we witness the majesty of bald eagles in their winter habitat. This event is a testament to the beauty and resilience of nature\, and a reminder of the importance of conservation. \nWhat to expect: \n\nGuided Bald Eagle Tour: Expertly led tour to prime bald eagle viewing locations in Northwest Arkansas.\nBald Eagle Education: Fascinating insights into eagle behavior and conservation efforts.\nWildlife Photography Tips: Photography tips and techniques for capturing stunning bald eagle images.\nBald Eagle Sightings: Opportunity to witness eagles in their natural habitat.\nResponsible Wildlife Viewing: A respectful and ethical wildlife viewing experience.”\n\n\nMeet at Climb Bentonville at 6 am depart at 6:15 am.\nArrival at Observation Site ~7:30 am \n  \nSchedule Here
URL:https://outdooreducationservices.com/event/bald-eagle-watch-photos/
LOCATION:Climb Bentonville\, 801 SW 14th St\, Bentonville\, AR\, 72712
ATTACH;FMTTYPE=image/jpeg:https://outdooreducationservices.com/wp-content/uploads/2025/02/baldeag-e1740446504296.jpg
END:VEVENT
END:VCALENDAR